BEGIN:VCALENDAR
VERSION:2.0
PRODID:-//FGU Danmark - ECPv6.15.20//NONSGML v1.0//EN
CALSCALE:GREGORIAN
METHOD:PUBLISH
X-WR-CALNAME:FGU Danmark
X-ORIGINAL-URL:https://fgu.dk
X-WR-CALDESC:Begivenheder for FGU Danmark
REFRESH-INTERVAL;VALUE=DURATION:PT1H
X-Robots-Tag:noindex
X-PUBLISHED-TTL:PT1H
BEGIN:VTIMEZONE
TZID:Europe/Copenhagen
BEGIN:DAYLIGHT
TZOFFSETFROM:+0100
TZOFFSETTO:+0200
TZNAME:CEST
DTSTART:20260329T010000
END:DAYLIGHT
BEGIN:STANDARD
TZOFFSETFROM:+0200
TZOFFSETTO:+0100
TZNAME:CET
DTSTART:20261025T010000
END:STANDARD
BEGIN:DAYLIGHT
TZOFFSETFROM:+0100
TZOFFSETTO:+0200
TZNAME:CEST
DTSTART:20270328T010000
END:DAYLIGHT
BEGIN:STANDARD
TZOFFSETFROM:+0200
TZOFFSETTO:+0100
TZNAME:CET
DTSTART:20271031T010000
END:STANDARD
BEGIN:DAYLIGHT
TZOFFSETFROM:+0100
TZOFFSETTO:+0200
TZNAME:CEST
DTSTART:20280326T010000
END:DAYLIGHT
BEGIN:STANDARD
TZOFFSETFROM:+0200
TZOFFSETTO:+0100
TZNAME:CET
DTSTART:20281029T010000
END:STANDARD
END:VTIMEZONE
BEGIN:VEVENT
DTSTART;TZID=Europe/Copenhagen:20270519T120000
DTEND;TZID=Europe/Copenhagen:20270520T150000
DTSTAMP:20260422T110508
CREATED:20250423T071011Z
LAST-MODIFIED:20250423T071011Z
UID:1503-1810728000-1810825200@fgu.dk
SUMMARY:FGU Danmarks årsmøde og ordinære generalforsamling 2027
DESCRIPTION:Årsmøde 2027\nI 2027 afholdes FGU Danmarks årsmøde den 19. – 20. maj 2027 på Comwell Kellers Park i Børkop. \nOrdinær generalforsamling\nI 2027 afholdes FGU Danmarks ordinære generalforsamling den 20. maj 2027 i forlængelse af FGU Danmarks årsmøde på Comwell Kellers Park.
URL:https://fgu.dk/event/fgu-danmarks-aarsmoede-og-ordinaere-generalforsamling-2027/
LOCATION:Comwell Kellers Park\, H. O. Wildenskovsvej 28\, Børkop\, 7080\, Denmark
CATEGORIES:FGU Danmark
ORGANIZER;CN="FGU Danmark":MAILTO:fgu@fgu.dk
END:VEVENT
END:VCALENDAR